BEGIN:VCALENDAR
VERSION:2.0
PRODID:-//GODSOM - Greater Works International - ECPv3.7//NONSGML v1.0//EN
CALSCALE:GREGORIAN
METHOD:PUBLISH
X-WR-CALNAME:GODSOM - Greater Works International
X-ORIGINAL-URL:http://godsom.greaterworksinternational.co
X-WR-CALDESC:Events for GODSOM - Greater Works International
BEGIN:VEVENT
DTSTART;VALUE=DATE-TIME:20190921T094500
DTEND;VALUE=DATE-TIME:20190921T113000
DTSTAMP:20260425T140003
CREATED:20190830T181458
LAST-MODIFIED:20190830T181458
UID:992-1569059100-1569065400@http://godsom.greaterworksinternational.co
SUMMARY:The Virtual Church
DESCRIPTION:In Matthew 16\, Jesus said\, upon this rock I will build my church. Was He referring to the temple or perhaps a synogogue? After all\, no churches existed at this time. In this powerful course we will uncover what Jesus really meant.
URL:http://godsom.greaterworksinternational.co/calendar/virtual-church/
END:VEVENT
BEGIN:VEVENT
DTSTART;VALUE=DATE-TIME:
DTEND;VALUE=DATE-TIME:
DTSTAMP:20260425T140003
CREATED:0
LAST-MODIFIED:0
UID:0--@http://godsom.greaterworksinternational.co
SUMMARY:
DESCRIPTION:
URL:
END:VEVENT
END:VCALENDAR