BEGIN:VCALENDAR
VERSION:2.0
PRODID:-//GODSOM - Greater Works International - ECPv3.7//NONSGML v1.0//EN
CALSCALE:GREGORIAN
METHOD:PUBLISH
X-WR-CALNAME:GODSOM - Greater Works International
X-ORIGINAL-URL:http://godsom.greaterworksinternational.co
X-WR-CALDESC:Events for GODSOM - Greater Works International
BEGIN:VEVENT
DTSTART;VALUE=DATE-TIME:20220328T080000
DTEND;VALUE=DATE-TIME:20220401T170000
DTSTAMP:20260423T111513
CREATED:20220330T065839
LAST-MODIFIED:20220330T065839
UID:1160-1648454400-1648832400@http://godsom.greaterworksinternational.co
SUMMARY:Doctorate Gowns and Tams arrive
DESCRIPTION:
URL:http://godsom.greaterworksinternational.co/calendar/doctorate-gowns-tams-arrive/
END:VEVENT
BEGIN:VEVENT
DTSTART;VALUE=DATE-TIME:20220401T020000
DTEND;VALUE=DATE-TIME:20220401T040000
DTSTAMP:20260423T111513
CREATED:20220331T061018
LAST-MODIFIED:20220331T061018
UID:1165-1648778400-1648785600@http://godsom.greaterworksinternational.co
SUMMARY:GWIMA Kenya Conference in Kisumu
DESCRIPTION:
URL:http://godsom.greaterworksinternational.co/calendar/gwima-kenya-conference-kisumu/
END:VEVENT
BEGIN:VEVENT
DTSTART;VALUE=DATE-TIME:20220401T110000
DTEND;VALUE=DATE-TIME:20220402T130000
DTSTAMP:20260423T111513
CREATED:20220401T110048
LAST-MODIFIED:20220331T061741
UID:1158-1648810800-1648904400@http://godsom.greaterworksinternational.co
SUMMARY:Blood Covenant
DESCRIPTION:Today\, we will explore the blood covenant and what it means to believers in the new testament.     How did things change between the old and new testaments? One of the biggest changes between the old and new covenants is how sin was handled. In the old covenant\, God established the priesthood to provide a way for the Israelites to cover or atone for sin-the breaking of the law. The high priest … the blood of Jesus did not just cover over our sins; it eradicated our sins. Jesus shed his blood for man as an everlasting offering in the new covenant so that we could go boldly to the throne of grace and find mercy and grace to help anytime we need it (Hebrews 4:16). He finished the establishment of the New Covenant by shedding his blood on calvary.
URL:http://godsom.greaterworksinternational.co/calendar/blood-covenant-3/
END:VEVENT
BEGIN:VEVENT
DTSTART;VALUE=DATE-TIME:
DTEND;VALUE=DATE-TIME:
DTSTAMP:20260423T111513
CREATED:0
LAST-MODIFIED:0
UID:0--@http://godsom.greaterworksinternational.co
SUMMARY:
DESCRIPTION:
URL:
END:VEVENT
END:VCALENDAR