BEGIN:VCALENDAR
VERSION:2.0
PRODID:-//GODSOM - Greater Works International - ECPv3.7//NONSGML v1.0//EN
CALSCALE:GREGORIAN
METHOD:PUBLISH
X-WR-CALNAME:GODSOM - Greater Works International
X-ORIGINAL-URL:http://godsom.greaterworksinternational.co
X-WR-CALDESC:Events for GODSOM - Greater Works International
BEGIN:VEVENT
DTSTART;VALUE=DATE-TIME:20230510T170000
DTEND;VALUE=DATE-TIME:20230510T180000
DTSTAMP:20260422T105832
CREATED:20230505T070749
LAST-MODIFIED:20230505T070749
UID:1194-1683738000-1683741600@http://godsom.greaterworksinternational.co
SUMMARY:Reaching the Nations Broadcast Recording Session
DESCRIPTION:
URL:http://godsom.greaterworksinternational.co/calendar/reaching-nations-broadcast-recording-session-2/
END:VEVENT
BEGIN:VEVENT
DTSTART;VALUE=DATE-TIME:20230510T223000
DTEND;VALUE=DATE-TIME:20230510T223000
DTSTAMP:20260422T105832
CREATED:20230505T070430
LAST-MODIFIED:20230505T070430
UID:1191-1683757800-1683757800@http://godsom.greaterworksinternational.co
SUMMARY:Leadership Prayer Workshop
DESCRIPTION:In this section on prayer\, we’ll cover some basic guidelines on establishing a successful ministry of prayer to undergird you and the ministry to which you are assigned as you move forward in possessing the land and establishing God’s Kingdom in all the earth.
URL:http://godsom.greaterworksinternational.co/calendar/leadership-prayer-workshop-3/
END:VEVENT
BEGIN:VEVENT
DTSTART;VALUE=DATE-TIME:
DTEND;VALUE=DATE-TIME:
DTSTAMP:20260422T105832
CREATED:0
LAST-MODIFIED:0
UID:0--@http://godsom.greaterworksinternational.co
SUMMARY:
DESCRIPTION:
URL:
END:VEVENT
END:VCALENDAR